BEGIN:VCALENDAR
VERSION:2.0
METHOD:PUBLISH
PRODID:-//Telerik Inc.//Sitefinity CMS 14.4//EN
BEGIN:VTIMEZONE
TZID:UTC
BEGIN:STANDARD
DTSTART;VALUE=DATE:20250101
TZNAME:UTC
TZOFFSETFROM:+0000
TZOFFSETTO:+0000
END:STANDARD
END:VTIMEZONE
BEGIN:VEVENT
DESCRIPTION:Partnering with the BCC\, this event is a great opportunity to 
 meet up with fellow business owners\, managers and leaders from across the
  South West.Why should I come along?As well as a fantastic\, locally sourc
 ed bacon bap (vegetarian and vegan options available with prior notice)\, 
 unlimited tea and coffee during the morning and facilitated networking\, t
 here will be a short expert talk plus a 'Knowledge Point' session giving y
 ou information about new sources of assistance to help your business devel
 op.If you've got an issue\, a niggle or a business-health question\, our t
 eam and your peers attending will be pleased to help you. There'll be plen
 ty of time for general networking and chat too\, so come along and join in
  the fun.SpeakerTo be confirmed.Here's what previous attendees have said a
 bout our networking breakfasts:"Fantastic event. Great advice and loads of
  lovely people. I am looking forward to attending more events in the futur
 e.""Today was great\, really nice to meet people who have gone through and
  are going through the same experiences as me. Some great advice from expe
 rts and peers. Made a number of contacts - few are in my field but may kno
 w people who are\, and their own services will be useful in the future".
DTEND:20260603T103000Z
DTSTAMP:20260424T145650Z
DTSTART:20260603T083000Z
LOCATION:Wiltshire\,United Kingdom\,Chippenham\,BCC\, Unit 7\, Greenways Bu
 siness Park
SEQUENCE:0
SUMMARY:Swindon and Wiltshire Growth Hub Business Networking Breakfast
UID:RFCALITEM639126394106936847
X-ALT-DESC;FMTTYPE=text/html:<p>Partnering with the BCC\, this event is a g
 reat opportunity to meet up with fellow business owners\, managers and lea
 ders from across the South West.</p><p>Why should I come along?</p><p>As w
 ell as a fantastic\, locally sourced bacon bap (vegetarian and vegan optio
 ns available with prior notice)\, unlimited tea and coffee during the morn
 ing and facilitated networking\, there will be a short expert talk plus a 
 'Knowledge Point' session giving you information about new sources of assi
 stance to help your business develop.</p><p>If you've got an issue\, a nig
 gle or a business-health question\, our team and your peers attending will
  be pleased to help you. There'll be plenty of time for general networking
  and chat too\, so come along and join in the fun.</p><p>Speaker<br /></p>
 <p>To be confirmed.</p><p>Here's what previous attendees have said about o
 ur networking breakfasts:</p><p>"Fantastic event. Great advice and loads o
 f lovely people. I am looking forward to attending more events in the futu
 re."</p><p>"Today was great\, really nice to meet people who have gone thr
 ough and are going through the same experiences as me. Some great advice f
 rom experts and peers. Made a number of contacts - few are in my field but
  may know people who are\, and their own services will be useful in the fu
 ture".</p>
END:VEVENT
END:VCALENDAR
