BEGIN:VCALENDAR
VERSION:2.0
METHOD:PUBLISH
PRODID:-//Telerik Inc.//Sitefinity CMS 14.4//EN
BEGIN:VTIMEZONE
TZID:UTC
BEGIN:STANDARD
DTSTART;VALUE=DATE:20250101
TZNAME:UTC
TZOFFSETFROM:+0000
TZOFFSETTO:+0000
END:STANDARD
END:VTIMEZONE
BEGIN:VEVENT
DESCRIPTION:Welcome to Cyber ICE 5.0!Get ready for an exciting day filled w
 ith all things cybersecurity at the&nbsp\;Business Cyber Centre.Join us on
 &nbsp\;Wednesday\, June 17\, 2026\,&nbsp\;at&nbsp\;09:00 AM&nbsp\;for a da
 y packed with workshops\, networking opportunities\, and insightful talks 
 from industry experts.Whether you're a seasoned cybersecurity professional
  or just starting out in the fieldWith speakers to be announced\, there wi
 ll be stands and interactive opportunities in the market hall.Book your ne
 tworking Breakfast ticket here:&nbsp\;Networking breakfast @ Cyber ICE 4.0
  with Shout Cyber Tickets\, Wed\, May 21\, 2025 at 8:00 AM | EventbriteCyb
 er ICE 5.0&nbsp\;has something for everyone. Learn about the latest trends
  in cyber defence\, network with like-minded individuals\, and expand your
  knowledge in this ever-evolving industry.If you are interested in exhibit
 ing or sponsoring Cyber ICE 5.0 please contact rob@swcybercluster.co.ukDon
 't miss out on this chance to enhance your skills and connect with fellow 
 cybersecurity enthusiasts. See you there!
DTEND:20260617T150000Z
DTSTAMP:20260424T145518Z
DTSTART:20260617T090000Z
LOCATION:Wiltshire\,United Kingdom\,Chippenham\,Business Cyber Centre\, Uni
 t 7
SEQUENCE:0
SUMMARY:Cyber ICE 5.0
UID:RFCALITEM639126393189747630
X-ALT-DESC;FMTTYPE=text/html:<div><span style="background-color:transparent
 \;color:inherit\;font-family:inherit\;font-size:inherit\;text-align:inheri
 t\;text-transform:inherit\;word-spacing:normal\;caret-color:auto\;white-sp
 ace:inherit\;">Welcome to Cyber ICE 5.0!</span></div><div><div data-testid
 ="text-content"><p>Get ready for an exciting day filled with all things cy
 bersecurity at the&nbsp\;Business Cyber Centre.</p><p>Join us on&nbsp\;Wed
 nesday\, June 17\, 2026\,&nbsp\;at&nbsp\;09:00 AM&nbsp\;for a day packed w
 ith workshops\, networking opportunities\, and insightful talks from indus
 try experts.</p><p>Whether you're a seasoned cybersecurity professional or
  just starting out in the field</p><p><em>With speakers to be announced\, 
 there will be stands and interactive opportunities in the market hall.</em
 ></p><p>Book your networking Breakfast ticket here:&nbsp\;<a href="https:/
 /www.eventbrite.co.uk/e/networking-breakfast-cyber-ice-40-with-shout-cyber
 -tickets-1311543605229?aff=oddtdtcreator" title="https://www.eventbrite.co
 .uk/e/networking-breakfast-cyber-ice-40-with-shout-cyber-tickets-131154360
 5229?aff=oddtdtcreator">Networking breakfast @ Cyber ICE 4.0 with Shout Cy
 ber Tickets\, Wed\, May 21\, 2025 at 8:00 AM | Eventbrite</a></p><p>Cyber 
 ICE 5.0&nbsp\;has something for everyone. Learn about the latest trends in
  cyber defence\, network with like-minded individuals\, and expand your kn
 owledge in this ever-evolving industry.</p><p>If you are interested in exh
 ibiting or sponsoring Cyber ICE 5.0 please contact rob@swcybercluster.co.u
 k</p><p>Don't miss out on this chance to enhance your skills and connect w
 ith fellow cybersecurity enthusiasts. See you there!</p></div></div>
END:VEVENT
END:VCALENDAR
